BEGIN:VCALENDAR
VERSION:2.0
PRODID:-//eventon.com NONSGML v1.0//EN
BEGIN:VEVENT
UID:69e7b30dc9433
DTSTAMP:20260421T192533
DTSTART:20261115T220000Z
DTEND:20261116T215900Z
LOCATION:
SUMMARY:Dyżur eksperta - Ewelina Matyjasik-Lewandowska - HOMESTAGING
DESCRIPTION: Dyżur eksperta - Ewelina Matyjasik-Lewandowska - HOMESTAGING
URL:https://mieszkanicznik.org.pl/events/dyzur-eksperta-ewelina-matyjasik-lewandowska-homestaging/var/ri-45.l-L1
END:VEVENT
END:VCALENDAR