BEGIN:VCALENDAR
VERSION:2.0
PRODID:-//eventon.com NONSGML v1.0//EN
BEGIN:VEVENT
UID:69e74a6b52f72
DTSTAMP:20260421T115907
DTSTART:20261011T220000Z
DTEND:20261012T215900Z
LOCATION:
SUMMARY:Dyżur eksperta - Ewelina Matyjasik-Lewandowska - HOMESTAGING
DESCRIPTION: Dyżur eksperta - Ewelina Matyjasik-Lewandowska - HOMESTAGING
URL:https://mieszkanicznik.org.pl/events/dyzur-eksperta-ewelina-matyjasik-lewandowska-homestaging/var/ri-40.l-L1
END:VEVENT
END:VCALENDAR