BEGIN:VCALENDAR
VERSION:2.0
PRODID:-//eventon.com NONSGML v1.0//EN
BEGIN:VEVENT
UID:69e6fb179bf23
DTSTAMP:20260421T062039
DTSTART:20260913T220000Z
DTEND:20260914T215900Z
LOCATION:
SUMMARY:Dyżur eksperta - Ewelina Matyjasik-Lewandowska - HOMESTAGING
DESCRIPTION: Dyżur eksperta - Ewelina Matyjasik-Lewandowska - HOMESTAGING
URL:https://mieszkanicznik.org.pl/events/dyzur-eksperta-ewelina-matyjasik-lewandowska-homestaging/var/ri-36.l-L1
END:VEVENT
END:VCALENDAR