BEGIN:VCALENDAR
VERSION:2.0
PRODID:-//eventon.com NONSGML v1.0//EN
BEGIN:VEVENT
UID:69e6e6a494ffa
DTSTAMP:20260421T045324
DTSTART:20260906T220000Z
DTEND:20260907T215900Z
LOCATION:
SUMMARY:Dyżur eksperta - Ewelina Matyjasik-Lewandowska - HOMESTAGING
DESCRIPTION: Dyżur eksperta - Ewelina Matyjasik-Lewandowska - HOMESTAGING
URL:https://mieszkanicznik.org.pl/events/dyzur-eksperta-ewelina-matyjasik-lewandowska-homestaging/var/ri-35.l-L1
END:VEVENT
END:VCALENDAR