BEGIN:VCALENDAR
VERSION:2.0
PRODID:-//eventon.com NONSGML v1.0//EN
BEGIN:VEVENT
UID:69e5f8969ae81
DTSTAMP:20260420T115742
DTSTART:20260607T220000Z
DTEND:20260608T215900Z
LOCATION:
SUMMARY:Dyżur eksperta - Ewelina Matyjasik-Lewandowska - HOMESTAGING
DESCRIPTION: Dyżur eksperta - Ewelina Matyjasik-Lewandowska - HOMESTAGING
URL:https://mieszkanicznik.org.pl/events/dyzur-eksperta-ewelina-matyjasik-lewandowska-homestaging/var/ri-22.l-L1
END:VEVENT
END:VCALENDAR