BEGIN:VCALENDAR
VERSION:2.0
PRODID:-//eventon.com NONSGML v1.0//EN
BEGIN:VEVENT
UID:69e7b8106125c
DTSTAMP:20260421T194656
DTSTART:20260902T220000Z
DTEND:20260903T215900Z
LOCATION:
SUMMARY:Dyżur eksperta - Rafał Thiel - AI\,  procedury oraz procesy i systemy w firmie\,  automatyzacja
DESCRIPTION: Dyżur eksperta - Rafał Thiel - AI\,  procedury oraz procesy i systemy w firmie\,  automatyzacja
URL:https://mieszkanicznik.org.pl/events/dyzur-eksperta-rafal-thiel-ai-procedury-oraz-procesy-i-systemy-w-firmie-automatyzacja/var/ri-8.l-L1
END:VEVENT
END:VCALENDAR