BEGIN:VCALENDAR
VERSION:2.0
PRODID:-//eventon.com NONSGML v1.0//EN
BEGIN:VEVENT
UID:69e7a67f4d36a
DTSTAMP:20260421T183159
DTSTART:20260805T220000Z
DTEND:20260806T215900Z
LOCATION:
SUMMARY:Dyżur eksperta - Rafał Thiel - AI\,  procedury oraz procesy i systemy w firmie\,  automatyzacja
DESCRIPTION: Dyżur eksperta - Rafał Thiel - AI\,  procedury oraz procesy i systemy w firmie\,  automatyzacja
URL:https://mieszkanicznik.org.pl/events/dyzur-eksperta-rafal-thiel-ai-procedury-oraz-procesy-i-systemy-w-firmie-automatyzacja/var/ri-7.l-L1
END:VEVENT
END:VCALENDAR