BEGIN:VCALENDAR
VERSION:2.0
PRODID:-//eventon.com NONSGML v1.0//EN
BEGIN:VEVENT
UID:69e80c0fb554b
DTSTAMP:20260422T014519
DTSTART:20270106T220000Z
DTEND:20270107T215900Z
LOCATION:
SUMMARY:Dyżur eksperta - Rafał Thiel - AI\,  procedury oraz procesy i systemy w firmie\,  automatyzacja
DESCRIPTION: Dyżur eksperta - Rafał Thiel - AI\,  procedury oraz procesy i systemy w firmie\,  automatyzacja
URL:https://mieszkanicznik.org.pl/events/dyzur-eksperta-rafal-thiel-ai-procedury-oraz-procesy-i-systemy-w-firmie-automatyzacja/var/ri-12.l-L1
END:VEVENT
END:VCALENDAR