BEGIN:VCALENDAR
VERSION:2.0
PRODID:-//eventon.com NONSGML v1.0//EN
BEGIN:VEVENT
UID:69e70e40b8601
DTSTAMP:20260421T074224
DTSTART:20260427T220000Z
DTEND:20260428T215900Z
LOCATION:
SUMMARY:Dyżur eksperta - Magdalena Ostrowska - inwestycje w nieruchomości\,  partnerstwo oraz członkostwo w Mieszkaniczniku
DESCRIPTION: Dyżur eksperta - Magdalena Ostrowska - inwestycje w nieruchomości\,  partnerstwo oraz członkostwo w Mieszkaniczniku
URL:https://mieszkanicznik.org.pl/events/dyzur-eksperta-magdalena-ostrowska-inwestycje-w-nieruchomosci-partnerstwo-oraz-czlonkostwo-w-mieszkaniczniku/var/ri-16.l-L1
END:VEVENT
END:VCALENDAR