BEGIN:VCALENDAR
VERSION:2.0
PRODID:-//eventon.com NONSGML v1.0//EN
BEGIN:VEVENT
UID:69e70dcf4f18c
DTSTAMP:20260421T074031
DTSTART:20260225T220000Z
DTEND:20260226T215900Z
LOCATION:
SUMMARY:Dyżur eksperta - Angelika Sławińska - PRZYGOTOWYWANIE OFERTY KUPNA\,  NAJMU I SPRZEDAŻY. ROZMOWA TELEFONICZNA Z KLIENTEM
DESCRIPTION: Dyżur eksperta - Angelika Sławińska - PRZYGOTOWYWANIE OFERTY KUPNA\,  NAJMU I SPRZEDAŻY. ROZMOWA TELEFONICZNA Z KLIENTEM
URL:https://mieszkanicznik.org.pl/events/dyzur-eksperta-angelika-slawinska-przygotowywanie-oferty-kupna-najmu-i-sprzedazy-rozmowa-telefoniczna-z-klientem/var/ri-16.l-L1
END:VEVENT
END:VCALENDAR