BEGIN:VCALENDAR
VERSION:2.0
PRODID:-//eventon.com NONSGML v1.0//EN
BEGIN:VEVENT
UID:69e6fb73dc6fc
DTSTAMP:20260421T062211
DTSTART:20260223T220000Z
DTEND:20260224T215900Z
LOCATION:
SUMMARY:Dyżur eksperta - Angelika Sławińska - PRZYGOTOWYWANIE OFERTY KUPNA\,  NAJMU I SPRZEDAŻY. ROZMOWA TELEFONICZNA Z KLIENTEM
DESCRIPTION: Dyżur eksperta - Angelika Sławińska - PRZYGOTOWYWANIE OFERTY KUPNA\,  NAJMU I SPRZEDAŻY. ROZMOWA TELEFONICZNA Z KLIENTEM
URL:https://mieszkanicznik.org.pl/events/dyzur-eksperta-angelika-slawinska-przygotowywanie-oferty-kupna-najmu-i-sprzedazy-rozmowa-telefoniczna-z-klientem/var/ri-15.l-L1
END:VEVENT
END:VCALENDAR