BEGIN:VCALENDAR
VERSION:2.0
PRODID:-//eventon.com NONSGML v1.0//EN
BEGIN:VEVENT
UID:69e69a0f47f4e
DTSTAMP:20260420T232639
DTSTART:20260204T220000Z
DTEND:20260205T215900Z
LOCATION:
SUMMARY:Dyżur eksperta - Angelika Sławińska - PRZYGOTOWYWANIE OFERTY KUPNA\,  NAJMU I SPRZEDAŻY. ROZMOWA TELEFONICZNA Z KLIENTEM
DESCRIPTION: Dyżur eksperta - Angelika Sławińska - PRZYGOTOWYWANIE OFERTY KUPNA\,  NAJMU I SPRZEDAŻY. ROZMOWA TELEFONICZNA Z KLIENTEM
URL:https://mieszkanicznik.org.pl/events/dyzur-eksperta-angelika-slawinska-przygotowywanie-oferty-kupna-najmu-i-sprzedazy-rozmowa-telefoniczna-z-klientem/var/ri-10.l-L1
END:VEVENT
END:VCALENDAR