BEGIN:VCALENDAR
VERSION:2.0
PRODID:-//eventon.com NONSGML v1.0//EN
BEGIN:VEVENT
UID:69e8d6cf75516
DTSTAMP:20260422T161023
DTSTART:20270901T220000Z
DTEND:20270902T215900Z
LOCATION:
SUMMARY:Dyżur eksperta - Barbara Workiert - Zabezpieczenie i finalizacja transakcji
DESCRIPTION: Dyżur eksperta - Barbara Workiert - Zabezpieczenie i finalizacja transakcji
URL:https://mieszkanicznik.org.pl/events/dyzur-eksperta-barbara-workiert-zabezpieczenie-i-finalizacja-transakcji/var/ri-40.l-L1
END:VEVENT
END:VCALENDAR