BEGIN:VCALENDAR
VERSION:2.0
PRODID:-//eventon.com NONSGML v1.0//EN
BEGIN:VEVENT
UID:69e86c4a5b1b0
DTSTAMP:20260422T083554
DTSTART:20270616T220000Z
DTEND:20270617T215900Z
LOCATION:
SUMMARY:Dyżur eksperta - Barbara Workiert - Zabezpieczenie i finalizacja transakcji
DESCRIPTION: Dyżur eksperta - Barbara Workiert - Zabezpieczenie i finalizacja transakcji
URL:https://mieszkanicznik.org.pl/events/dyzur-eksperta-barbara-workiert-zabezpieczenie-i-finalizacja-transakcji/var/ri-35.l-L1
END:VEVENT
END:VCALENDAR