BEGIN:VCALENDAR
VERSION:2.0
PRODID:-//eventon.com NONSGML v1.0//EN
BEGIN:VEVENT
UID:69e8041d4dbe2
DTSTAMP:20260422T011125
DTSTART:20270331T220000Z
DTEND:20270401T215900Z
LOCATION:
SUMMARY:Dyżur eksperta - Barbara Workiert - Zabezpieczenie i finalizacja transakcji
DESCRIPTION: Dyżur eksperta - Barbara Workiert - Zabezpieczenie i finalizacja transakcji
URL:https://mieszkanicznik.org.pl/events/dyzur-eksperta-barbara-workiert-zabezpieczenie-i-finalizacja-transakcji/var/ri-30.l-L1
END:VEVENT
END:VCALENDAR