BEGIN:VCALENDAR
VERSION:2.0
PRODID:-//eventon.com NONSGML v1.0//EN
BEGIN:VEVENT
UID:69e760c931e78
DTSTAMP:20260421T133433
DTSTART:20261202T220000Z
DTEND:20261203T215900Z
LOCATION:
SUMMARY:Dyżur eksperta - Barbara Workiert - Zabezpieczenie i finalizacja transakcji
DESCRIPTION: Dyżur eksperta - Barbara Workiert - Zabezpieczenie i finalizacja transakcji
URL:https://mieszkanicznik.org.pl/events/dyzur-eksperta-barbara-workiert-zabezpieczenie-i-finalizacja-transakcji/var/ri-22.l-L1
END:VEVENT
END:VCALENDAR