BEGIN:VCALENDAR
VERSION:2.0
PRODID:-//eventon.com NONSGML v1.0//EN
BEGIN:VEVENT
UID:69e5e32975a49
DTSTAMP:20260420T102617
DTSTART:20260204T220000Z
DTEND:20260205T215900Z
LOCATION:
SUMMARY:Dyżur eksperta - Barbara Workiert - Zabezpieczenie i finalizacja transakcji
DESCRIPTION: Dyżur eksperta - Barbara Workiert - Zabezpieczenie i finalizacja transakcji
URL:https://mieszkanicznik.org.pl/events/dyzur-eksperta-barbara-workiert-zabezpieczenie-i-finalizacja-transakcji/var/ri-2.l-L1
END:VEVENT
END:VCALENDAR