BEGIN:VCALENDAR
VERSION:2.0
PRODID:-//eventon.com NONSGML v1.0//EN
BEGIN:VEVENT
UID:69e7933bd56c4
DTSTAMP:20260421T170947
DTSTART:20260224T220000Z
DTEND:20260225T215900Z
LOCATION:
SUMMARY:Porada Prawna - Sylwia Staszewska-Lisiak
DESCRIPTION: Porada Prawna - Sylwia Staszewska-Lisiak
URL:https://mieszkanicznik.org.pl/events/porada-prawna-sylwia-staszewska-lisiak/var/ri-7.l-L1
END:VEVENT
END:VCALENDAR