BEGIN:VCALENDAR
VERSION:2.0
PRODID:-//eventon.com NONSGML v1.0//EN
BEGIN:VEVENT
UID:69e76bac1cd15
DTSTAMP:20260421T142100
DTSTART:20260210T220000Z
DTEND:20260211T215900Z
LOCATION:
SUMMARY:Porada Prawna - Sylwia Staszewska-Lisiak
DESCRIPTION: Porada Prawna - Sylwia Staszewska-Lisiak
URL:https://mieszkanicznik.org.pl/events/porada-prawna-sylwia-staszewska-lisiak/var/ri-5.l-L1
END:VEVENT
END:VCALENDAR