BEGIN:VCALENDAR
VERSION:2.0
PRODID:-//eventon.com NONSGML v1.0//EN
BEGIN:VEVENT
UID:69e8d897ad886
DTSTAMP:20260422T161759
DTSTART:20260616T220000Z
DTEND:20260617T215900Z
LOCATION:
SUMMARY:Porada Prawna - Sylwia Staszewska-Lisiak
DESCRIPTION: Porada Prawna - Sylwia Staszewska-Lisiak
URL:https://mieszkanicznik.org.pl/events/porada-prawna-sylwia-staszewska-lisiak/var/ri-23.l-L1
END:VEVENT
END:VCALENDAR