BEGIN:VCALENDAR
VERSION:2.0
PRODID:-//eventon.com NONSGML v1.0//EN
BEGIN:VEVENT
UID:69e88d7543265
DTSTAMP:20260422T105725
DTSTART:20260519T220000Z
DTEND:20260520T215900Z
LOCATION:
SUMMARY:Porada Prawna - Sylwia Staszewska-Lisiak
DESCRIPTION: Porada Prawna - Sylwia Staszewska-Lisiak
URL:https://mieszkanicznik.org.pl/events/porada-prawna-sylwia-staszewska-lisiak/var/ri-19.l-L1
END:VEVENT
END:VCALENDAR