BEGIN:VCALENDAR
VERSION:2.0
PRODID:-//eventon.com NONSGML v1.0//EN
BEGIN:VEVENT
UID:69e7faca3d680
DTSTAMP:20260422T003138
DTSTART:20260331T220000Z
DTEND:20260401T215900Z
LOCATION:
SUMMARY:Porada Prawna - Sylwia Staszewska-Lisiak
DESCRIPTION: Porada Prawna - Sylwia Staszewska-Lisiak
URL:https://mieszkanicznik.org.pl/events/porada-prawna-sylwia-staszewska-lisiak/var/ri-12.l-L1
END:VEVENT
END:VCALENDAR