BEGIN:VCALENDAR
VERSION:2.0
PRODID:-//eventon.com NONSGML v1.0//EN
BEGIN:VEVENT
UID:69e76b9eb6b26
DTSTAMP:20260421T142046
DTSTART:20260209T220000Z
DTEND:20260210T215900Z
LOCATION:
SUMMARY:Dyżur eksperta - Michał Białobrzeski - Zarządzanie najmem i podnajem
DESCRIPTION: Dyżur eksperta - Michał Białobrzeski - Zarządzanie najmem i podnajem
URL:https://mieszkanicznik.org.pl/events/dyzur-eksperta-michal-bialobrzeski-zarzadzanie-najmem-i-podnajem/var/ri-5.l-L1
END:VEVENT
END:VCALENDAR