BEGIN:VCALENDAR
VERSION:2.0
PRODID:-//eventon.com NONSGML v1.0//EN
BEGIN:VEVENT
UID:69e75ac733eca
DTSTAMP:20260421T130855
DTSTART:20260202T220000Z
DTEND:20260203T215900Z
LOCATION:
SUMMARY:Dyżur eksperta - Michał Białobrzeski - Zarządzanie najmem i podnajem
DESCRIPTION: Dyżur eksperta - Michał Białobrzeski - Zarządzanie najmem i podnajem
URL:https://mieszkanicznik.org.pl/events/dyzur-eksperta-michal-bialobrzeski-zarzadzanie-najmem-i-podnajem/var/ri-4.l-L1
END:VEVENT
END:VCALENDAR