BEGIN:VCALENDAR
VERSION:2.0
PRODID:-//eventon.com NONSGML v1.0//EN
BEGIN:VEVENT
UID:69e8a50824853
DTSTAMP:20260422T123800
DTSTART:20260525T220000Z
DTEND:20260526T215900Z
LOCATION:
SUMMARY:Dyżur eksperta - Michał Białobrzeski - Zarządzanie najmem i podnajem
DESCRIPTION: Dyżur eksperta - Michał Białobrzeski - Zarządzanie najmem i podnajem
URL:https://mieszkanicznik.org.pl/events/dyzur-eksperta-michal-bialobrzeski-zarzadzanie-najmem-i-podnajem/var/ri-20.l-L1
END:VEVENT
END:VCALENDAR