BEGIN:VCALENDAR
VERSION:2.0
PRODID:-//eventon.com NONSGML v1.0//EN
BEGIN:VEVENT
UID:69e7cdb95f4b3
DTSTAMP:20260421T211921
DTSTART:20260316T220000Z
DTEND:20260317T215900Z
LOCATION:
SUMMARY:Dyżur eksperta - Michał Białobrzeski - Zarządzanie najmem i podnajem
DESCRIPTION: Dyżur eksperta - Michał Białobrzeski - Zarządzanie najmem i podnajem
URL:https://mieszkanicznik.org.pl/events/dyzur-eksperta-michal-bialobrzeski-zarzadzanie-najmem-i-podnajem/var/ri-10.l-L1
END:VEVENT
END:VCALENDAR