BEGIN:VCALENDAR
VERSION:2.0
PRODID:-//eventon.com NONSGML v1.0//EN
BEGIN:VEVENT
UID:69e60dcb8bb5f
DTSTAMP:20260420T132811
DTSTART:20251209T160000Z
DTEND:20251209T200000Z
LOCATION:
SUMMARY:Warszawa -  Podatki 2026: Co zmieni się w nieruchomościach i biznesie nieruchomościowym?  - Grzegorz Grabowski
DESCRIPTION: Warszawa -  Podatki 2026: Co zmieni się w nieruchomościach i biznesie nieruchomościowym?  - Grzegorz Grabowski
URL:https://mieszkanicznik.org.pl/events/warszawa-podatki-2026-co-zmieni-sie-w-nieruchomosciach-i-biznesie-nieruchomosciowym-grzegorz-grabowski/
END:VEVENT
END:VCALENDAR