BEGIN:VCALENDAR
VERSION:2.0
PRODID:-//eventon.com NONSGML v1.0//EN
BEGIN:VEVENT
UID:69e60dcb8bb37
DTSTAMP:20260420T132811
DTSTART:20251125T160000Z
DTEND:20251125T200000Z
LOCATION:
SUMMARY:Katowice -  Zakup i pośrednictwo trudnych nieruchomości - były asesor komorniczy - Krzysztof Łaciński
DESCRIPTION: Katowice -  Zakup i pośrednictwo trudnych nieruchomości - były asesor komorniczy - Krzysztof Łaciński
URL:https://mieszkanicznik.org.pl/events/katowice-zakup-i-posrednictwo-trudnych-nieruchomosci-byly-asesor-komorniczy-krzysztof-lacinski/
END:VEVENT
END:VCALENDAR