BEGIN:VCALENDAR
VERSION:2.0
PRODID:-//eventon.com NONSGML v1.0//EN
BEGIN:VEVENT
UID:69e80c240ae74
DTSTAMP:20260422T014540
DTSTART:20251007T220000Z
DTEND:20251008T215900Z
LOCATION:
SUMMARY:Dyżur Eksperta- Michał Zduńczyk -Inwestycje na rynku irlandzkim i w Wielkiej Brytanii oraz wynajem krótkoterminowy
DESCRIPTION: Dyżur Eksperta- Michał Zduńczyk -Inwestycje na rynku irlandzkim i w Wielkiej Brytanii oraz wynajem krótkoterminowy
URL:https://mieszkanicznik.org.pl/events/dyzur-eksperta-michal-zdunczyk-inwestycje-na-rynku-irlandzkim-i-w-wielkiej-brytanii-oraz-wynajem-krotkoterminowy/var/ri-14.l-L1
END:VEVENT
END:VCALENDAR