BEGIN:VCALENDAR
VERSION:2.0
PRODID:-//eventon.com NONSGML v1.0//EN
BEGIN:VEVENT
UID:69e7e25a783bc
DTSTAMP:20260421T224722
DTSTART:20250923T220000Z
DTEND:20250924T215900Z
LOCATION:
SUMMARY:Dyżur Eksperta- Michał Zduńczyk -Inwestycje na rynku irlandzkim i w Wielkiej Brytanii oraz wynajem krótkoterminowy
DESCRIPTION: Dyżur Eksperta- Michał Zduńczyk -Inwestycje na rynku irlandzkim i w Wielkiej Brytanii oraz wynajem krótkoterminowy
URL:https://mieszkanicznik.org.pl/events/dyzur-eksperta-michal-zdunczyk-inwestycje-na-rynku-irlandzkim-i-w-wielkiej-brytanii-oraz-wynajem-krotkoterminowy/var/ri-12.l-L1
END:VEVENT
END:VCALENDAR