BEGIN:VCALENDAR
VERSION:2.0
PRODID:-//eventon.com NONSGML v1.0//EN
BEGIN:VEVENT
UID:69e60a43f2cc9
DTSTAMP:20260420T131307
DTSTART:20250718T160000Z
DTEND:20250718T190000Z
LOCATION:
SUMMARY:Łódź - 18.07.2025 Grill Networkingowy
DESCRIPTION: Łódź - 18.07.2025 Grill Networkingowy
URL:https://mieszkanicznik.org.pl/events/lodz-18-07-2025-grill-networkingowy/
END:VEVENT
END:VCALENDAR