BEGIN:VCALENDAR
VERSION:2.0
PRODID:-//eventon.com NONSGML v1.0//EN
BEGIN:VEVENT
UID:69e60a282a5ff
DTSTAMP:20260420T131240
DTSTART:19691231T220000Z
DTEND:19691231T220000Z
LOCATION:
SUMMARY:Łódź - 18.07.2025 Grill Networkingowy
DESCRIPTION: Zapraszamy Cię serdecznie na Wakacyjną Integrację\,  podczas której połączymy to\,  co najważniejsze – relacje\,  luz\,  świętowanie i wspólne przeżycia. lokalizacja: Hotel Stare Kino  data: Piątek\,  18 lipca 2025  Start: 18:00 Przyjdż\,  złap kontakty\,  naładuj baterię i wkrocz w sezon wakacyjny z nowymi pomysłami! Co Cię czeka? Integracyjne aktywności Grill z[..]
URL:https://mieszkanicznik.org.pl/lodz-18-07-2025-grill-networkingowy/
END:VEVENT
END:VCALENDAR