BEGIN:VCALENDAR
VERSION:2.0
PRODID:-//eventon.com NONSGML v1.0//EN
BEGIN:VEVENT
UID:69e63e35c446e
DTSTAMP:20260420T165445
DTSTART:20250624T160000Z
DTEND:20250624T190000Z
LOCATION:
SUMMARY:Rzeszów "Sprzedaż mieszkań przez Instagram i nowa era transparentności – case study dewelopera" Barbara Ziemba
DESCRIPTION: Rzeszów "Sprzedaż mieszkań przez Instagram i nowa era transparentności – case study dewelopera" Barbara Ziemba
URL:https://mieszkanicznik.org.pl/events/rzeszow-sprzedaz-mieszkan-przez-instagram-i-nowa-era-transparentnosci-case-study-dewelopera-barbara-ziemba/
END:VEVENT
END:VCALENDAR