BEGIN:VCALENDAR
VERSION:2.0
PRODID:-//eventon.com NONSGML v1.0//EN
BEGIN:VEVENT
UID:69e616874a8f9
DTSTAMP:20260420T140527
DTSTART:20250529T160000Z
DTEND:20250530T193000Z
LOCATION:
SUMMARY:Gdańsk Robert Jarczyński - Okazje Inwestycyjne Na Rynku Nieruchomości
DESCRIPTION: Gdańsk Robert Jarczyński - Okazje Inwestycyjne Na Rynku Nieruchomości
URL:https://mieszkanicznik.org.pl/events/gdansk-robert-jarczynski-okazje-inwestycyjne-na-rynku-nieruchomosci/
END:VEVENT
END:VCALENDAR