BEGIN:VCALENDAR
VERSION:2.0
PRODID:-//eventon.com NONSGML v1.0//EN
BEGIN:VEVENT
UID:69e494ef5c4eb
DTSTAMP:20260419T104015
DTSTART:20250512T160000Z
DTEND:20250512T193000Z
LOCATION:
SUMMARY:Szczecin "Podział domu jednorodzinnego na kilka mieszkań z osobnymi KW" Aleks Wzorak
DESCRIPTION: Szczecin "Podział domu jednorodzinnego na kilka mieszkań z osobnymi KW" Aleks Wzorak
URL:https://mieszkanicznik.org.pl/events/szczecin-12-05-2025-podzial-domu-jednorodzinnego-na-kilka-mieszkan-z-osobnymi-kw-aleks-wzorak/
END:VEVENT
END:VCALENDAR