BEGIN:VCALENDAR
VERSION:2.0
PRODID:-//eventon.com NONSGML v1.0//EN
BEGIN:VEVENT
UID:69e747b713f73
DTSTAMP:20260421T114735
DTSTART:20250319T153000Z
DTEND:20250319T190000Z
LOCATION:
SUMMARY:Bielsko-Biała "Social media w nieruchomościach – strategie\,  które realnie sprzedają" Karolina Banaś
DESCRIPTION: Bielsko-Biała "Social media w nieruchomościach – strategie\,  które realnie sprzedają" Karolina Banaś
URL:https://mieszkanicznik.org.pl/events/bielsko-biala-social-media-w-nieruchomosciach-strategie-ktore-realnie-sprzedaja-karolina-banas/
END:VEVENT
END:VCALENDAR