BEGIN:VCALENDAR
VERSION:2.0
PRODID:-//eventon.com NONSGML v1.0//EN
BEGIN:VEVENT
UID:69e747b7839a0
DTSTAMP:20260421T114735
DTSTART:19691231T220000Z
DTEND:19691231T220000Z
LOCATION:
SUMMARY:Bielsko-Biała "Social media w nieruchomościach – strategie\,  które realnie sprzedają" Karolina Banaś
DESCRIPTION: Z ogromną przyjemnością zapraszamy na marcowe szkolenie Stowarzyszenia Mieszkanicznik w Bielsku Białej. Widzimy się w środę 19 marca 2025 o godzinie 17:30 &nbsp; O PRELEGENTCE: Karolina Banaś Wspieram właścicieli i menedżerów obiektów noclegowych w zwiększaniu zysków\,  budowaniu rozpoznawalności marki oraz podnoszeniu poziomu zadowolenia gości. Łączę doradztwo\,  marketing oraz skuteczne strategie sprzedażowe w[..]
URL:https://mieszkanicznik.org.pl/bielsko-biala-social-media-w-nieruchomosciach-strategie-ktore-realnie-sprzedaja-karolina-banas/
END:VEVENT
END:VCALENDAR