BEGIN:VCALENDAR
VERSION:2.0
PRODID:-//eventon.com NONSGML v1.0//EN
BEGIN:VEVENT
UID:69e494ed6aa48
DTSTAMP:20260419T104013
DTSTART:20250313T160000Z
DTEND:20250313T210000Z
LOCATION:
SUMMARY:Lublin - Wynajem krótko i długoterminowy-strategie inwestycyjne. Paulina Benda
DESCRIPTION: Zapraszamy na spotkanie lubelskich Mieszkaniczników! Temat szkolenia: Wynajem Krótkoterminowy vs. Długoterminowy? Odkryj Najlepszą Strategię! O PRELEGENCIE: Paulina Benda Absolwentka Wydziału Dziennikarstwa i Nauk Politycznych Uniwersytetu Warszawskiego\,  London School of Public Relations oraz programu Leadership ICAN Institute. Pracę zawodową rozpoczynała u pierwszego dewelopera w Warszawie. Posiada doświadczenie w sektorze turystycznym i hotelarskim.[..]
URL:https://mieszkanicznik.org.pl/events/lublin-wynajem-krotko-i-dlugoterminowy-strategie-inwestycyjne-paulina-benda/
END:VEVENT
END:VCALENDAR