BEGIN:VCALENDAR
VERSION:2.0
PRODID:-//eventon.com NONSGML v1.0//EN
BEGIN:VEVENT
UID:69e75c5171078
DTSTAMP:20260421T131529
DTSTART:20250326T154500Z
DTEND:20250326T210000Z
LOCATION:
SUMMARY:POZNAŃ  - Wynajem krótkoterminowy - Małgorzata Lorini
DESCRIPTION: Zapraszamy na szkolenie Mieszkanicznika w Poznaniu już 26 marca 2025 o godzinie 18:00 W roli ekspertki zobaczymy Małgorzatę Lorini. TEMAT SPOTKANIA: Wynajem krótkoterminowy - kroki do sukcesu Podczas prelekcji dowiesz się między innymi: Jakie są zalety i wady wynajmu krótkoterminowego w porównaniu z wynajmem długoterminowym? - aby być w stanie bardziej świadomie[..]
URL:https://mieszkanicznik.org.pl/events/poznan-wynajem-krotkoterminowy-malgorzata-lorini/
END:VEVENT
END:VCALENDAR