BEGIN:VCALENDAR
VERSION:2.0
PRODID:-//eventon.com NONSGML v1.0//EN
BEGIN:VEVENT
UID:69e75c36dc6b2
DTSTAMP:20260421T131502
DTSTART:20250303T160000Z
DTEND:20250303T210000Z
LOCATION:
SUMMARY:Koszalin 03.03.2025 "Jak wynajdować okazje na rynku nieruchomości tam gdzie inni patrzą i nie widzą" - Robert Jarczyński
DESCRIPTION: &nbsp; Zapraszamy na spotkanie branży nieruchomości w Koszalinie! CZEGO SIĘ DOWIESZ PODCZAS SZKOLENIA: Czy wiesz\,  że prawdziwa okazja\,  to nie tylko niska cena?? Na rynku nieruchomości liczy się o wiele więcej! To umiejętność dostrzegania tego\,  czego inni nie widzą – od lokalnych trendów po potencjał rozwoju danej okolicy. ?? Dowiedz[..]
URL:https://mieszkanicznik.org.pl/events/koszalin-03-03-2025-jak-wynajdowac-okazje-na-rynku-nieruchomosci-tam-gdzie-inni-patrza-i-nie-widza-robert-jarczynski/
END:VEVENT
END:VCALENDAR