BEGIN:VCALENDAR
VERSION:2.0
PRODID:-//eventon.com NONSGML v1.0//EN
BEGIN:VEVENT
UID:69e77132c7e29
DTSTAMP:20260421T144434
DTSTART:20250213T160000Z
DTEND:20250213T193000Z
LOCATION:
SUMMARY:Kraków Michał Kosior: "Jak zbudować MILIONOWY majątek w nieruchomościach zaczynając od ZERA? Od kupowania mieszkań po zakup budynków"
DESCRIPTION: Kraków Michał Kosior: "Jak zbudować MILIONOWY majątek w nieruchomościach zaczynając od ZERA? Od kupowania mieszkań po zakup budynków"
URL:https://mieszkanicznik.org.pl/events/krakow-michal-kosior-jak-zbudowac-milionowy-majatek-w-nieruchomosciach-zaczynajac-od-zera-od-kupowania-mieszkan-po-zakup-budynkow/
END:VEVENT
END:VCALENDAR