BEGIN:VCALENDAR
VERSION:2.0
PRODID:-//eventon.com NONSGML v1.0//EN
BEGIN:VEVENT
UID:69e7858bcbecc
DTSTAMP:20260421T161123
DTSTART:20250122T160000Z
DTEND:20250122T193000Z
LOCATION:
SUMMARY:Bielsko-Biała "Transformacyjna moc umysłu: rzeczywistość tworzona przez myśli i emocje" Dariusz Lockau
DESCRIPTION: Bielsko-Biała "Transformacyjna moc umysłu: rzeczywistość tworzona przez myśli i emocje" Dariusz Lockau
URL:https://mieszkanicznik.org.pl/events/bielsko-biala-transformacyjna-moc-umyslu-rzeczywistosc-tworzona-przez-mysli-i-emocje-dariusz-lockau/
END:VEVENT
END:VCALENDAR