BEGIN:VCALENDAR
VERSION:2.0
PRODID:-//eventon.com NONSGML v1.0//EN
BEGIN:VEVENT
UID:69e7568710575
DTSTAMP:20260421T125047
DTSTART:20250606T170000Z
DTEND:20250606T180000Z
LOCATION:
SUMMARY:Dyżur - Marcin Szymocha - Podatki\,  zwłaszcza VAT i obsługa sporów podatkowych.
DESCRIPTION: Dyżur - Marcin Szymocha - Podatki\,  zwłaszcza VAT i obsługa sporów podatkowych.
URL:https://mieszkanicznik.org.pl/events/dyzur-marcin-szymocha-podatki-zwlaszcza-vat-i-obsluga-sporow-podatkowych-3/var/ri-5.l-L1
END:VEVENT
END:VCALENDAR