BEGIN:VCALENDAR
VERSION:2.0
PRODID:-//eventon.com NONSGML v1.0//EN
BEGIN:VEVENT
UID:69e781cb9c7f6
DTSTAMP:20260421T155523
DTSTART:20241217T160000Z
DTEND:20241217T193000Z
LOCATION:
SUMMARY:Rzeszów "Wynajem krótkoterminowy krok po kroku" Małgorzata Lorini
DESCRIPTION: Rzeszów "Wynajem krótkoterminowy krok po kroku" Małgorzata Lorini
URL:https://mieszkanicznik.org.pl/events/rzeszow-wynajem-krotkoterminowy-krok-po-kroku-malgorzata-lorini/
END:VEVENT
END:VCALENDAR