BEGIN:VCALENDAR
VERSION:2.0
PRODID:-//eventon.com NONSGML v1.0//EN
BEGIN:VEVENT
UID:69e79c41235e0
DTSTAMP:20260421T174817
DTSTART:20241210T160000Z
DTEND:20241210T193000Z
LOCATION:
SUMMARY:Toruń "Rynek nieruchomości 2024 + Trendy i strategie na przyszłość" - Paweł Mrozowski i Marcin Szczawiński
DESCRIPTION: Toruń "Rynek nieruchomości 2024 + Trendy i strategie na przyszłość" - Paweł Mrozowski i Marcin Szczawiński
URL:https://mieszkanicznik.org.pl/events/torun-rynek-nieruchomosci-2024-trendy-i-strategie-na-przyszlosc-pawel-mrozowski-i-marcin-szczawinski/
END:VEVENT
END:VCALENDAR