BEGIN:VCALENDAR
VERSION:2.0
PRODID:-//eventon.com NONSGML v1.0//EN
BEGIN:VEVENT
UID:69e50d2e3053a
DTSTAMP:20260419T191318
DTSTART:20241121T153000Z
DTEND:20241121T190000Z
LOCATION:
SUMMARY:Gdańsk - 21.11.2024 - szkolenie: Grunty - Krzysztof Derdzikowski
DESCRIPTION: Gdańsk - 21.11.2024 - szkolenie: Grunty - Krzysztof Derdzikowski
URL:https://mieszkanicznik.org.pl/events/gdansk-21-11-2024-szkolenie-grunty-krzysztof-derdzikowski/
END:VEVENT
END:VCALENDAR