BEGIN:VCALENDAR
VERSION:2.0
PRODID:-//eventon.com NONSGML v1.0//EN
BEGIN:VEVENT
UID:69e50d5c61da6
DTSTAMP:20260419T191404
DTSTART:20241120T153000Z
DTEND:20241120T183000Z
LOCATION:
SUMMARY:Bielsko-Biała 20.11.2024r.- szkolenia: Customer experience - Jak zarządzanie doświadczeniem klienta wpływa na wyniki sprzedażowe? Katarzyna Wojciechowska
DESCRIPTION: Bielsko-Biała 20.11.2024r.- szkolenia: Customer experience - Jak zarządzanie doświadczeniem klienta wpływa na wyniki sprzedażowe? Katarzyna Wojciechowska
URL:https://mieszkanicznik.org.pl/events/bielsko-biala-20-11-2024r-szkolenia-customer-experience-jak-zarzadzanie-doswiadczeniem-klienta-wplywa-na-wyniki-sprzedazowe-katarzyna-wojciechowska/
END:VEVENT
END:VCALENDAR