BEGIN:VCALENDAR
VERSION:2.0
PRODID:-//eventon.com NONSGML v1.0//EN
BEGIN:VEVENT
UID:69e75c19a9ca6
DTSTAMP:20260421T131433
DTSTART:20241118T154500Z
DTEND:20241118T190000Z
LOCATION:
SUMMARY:Szczecin 18.11.2024 - Podatki dla wynajmujących mieszkania w 2024-2025 r.
DESCRIPTION: Szczecin 18.11.2024 - Podatki dla wynajmujących mieszkania w 2024-2025 r.
URL:https://mieszkanicznik.org.pl/events/szczecin-18-11-2024-podatki-dla-wynajmujacych-mieszkania-w-2024-2025-r/
END:VEVENT
END:VCALENDAR