BEGIN:VCALENDAR
VERSION:2.0
PRODID:-//eventon.com NONSGML v1.0//EN
BEGIN:VEVENT
UID:69e61f1711af2
DTSTAMP:20260420T144159
DTSTART:20240730T153000Z
DTEND:20240730T193000Z
LOCATION:
SUMMARY:Zielona Góra - 30.07.2024 - Potężna skala w nieruchomościach. Szansa czy zagrożenie? Szymon Kaczyński
DESCRIPTION: Zielona Góra - 30.07.2024 - Potężna skala w nieruchomościach. Szansa czy zagrożenie? Szymon Kaczyński
URL:https://mieszkanicznik.org.pl/events/zielona-gora-30-07-2024-potezna-skala-w-nieruchomosciach-szansa-czy-zagrozenie-szymon-kaczynski/
END:VEVENT
END:VCALENDAR