BEGIN:VCALENDAR
VERSION:2.0
PRODID:-//eventon.com NONSGML v1.0//EN
BEGIN:VEVENT
UID:69e781ad7294f
DTSTAMP:20260421T155453
DTSTART:20240523T160000Z
DTEND:20240523T200000Z
LOCATION:
SUMMARY:Łódź - 23.05.2024 - Udziały - niekoronowany król na rynku zysków w nieruchomościach. Dyskusja praktyka z prawnikiem - Karolina Pawłowska i mec Adam Grosicki
DESCRIPTION: Łódź - 23.05.2024 - Udziały - niekoronowany król na rynku zysków w nieruchomościach. Dyskusja praktyka z prawnikiem - Karolina Pawłowska i mec Adam Grosicki
URL:https://mieszkanicznik.org.pl/events/lodz-23-05-2024-udzialy-niekoronowany-krol-na-rynku-zyskow-w-nieruchomosciach-dyskusja-praktyka-z-prawnikiem-karolina-pawlowska-i-mec-adam-grosicki/
END:VEVENT
END:VCALENDAR